BEGIN:VCALENDAR
VERSION:2.0
PRODID:-//Navitas - ECPv6.15.20//NONSGML v1.0//EN
CALSCALE:GREGORIAN
METHOD:PUBLISH
X-WR-CALNAME:Navitas
X-ORIGINAL-URL:https://navitassemi.com
X-WR-CALDESC:Events for Navitas
REFRESH-INTERVAL;VALUE=DURATION:PT1H
X-Robots-Tag:noindex
X-PUBLISHED-TTL:PT1H
BEGIN:VTIMEZONE
TZID:America/Los_Angeles
BEGIN:DAYLIGHT
TZOFFSETFROM:-0800
TZOFFSETTO:-0700
TZNAME:PDT
DTSTART:20240310T100000
END:DAYLIGHT
BEGIN:STANDARD
TZOFFSETFROM:-0700
TZOFFSETTO:-0800
TZNAME:PST
DTSTART:20241103T090000
END:STANDARD
BEGIN:DAYLIGHT
TZOFFSETFROM:-0800
TZOFFSETTO:-0700
TZNAME:PDT
DTSTART:20250309T100000
END:DAYLIGHT
BEGIN:STANDARD
TZOFFSETFROM:-0700
TZOFFSETTO:-0800
TZNAME:PST
DTSTART:20251102T090000
END:STANDARD
BEGIN:DAYLIGHT
TZOFFSETFROM:-0800
TZOFFSETTO:-0700
TZNAME:PDT
DTSTART:20260308T100000
END:DAYLIGHT
BEGIN:STANDARD
TZOFFSETFROM:-0700
TZOFFSETTO:-0800
TZNAME:PST
DTSTART:20261101T090000
END:STANDARD
END:VTIMEZONE
BEGIN:VEVENT
DTSTART;VALUE=DATE:20250910
DTEND;VALUE=DATE:20250912
DTSTAMP:20260425T064117
CREATED:20250829T132822Z
LAST-MODIFIED:20250829T133022Z
UID:987505696-1757462400-1757635199@navitassemi.com
SUMMARY:SEMI-e 2025
DESCRIPTION:Shenzhen International Semiconductor & IC Exhibition (SEMI-e 2025)\, a premier global event in the semiconductor industry\, will bring together more than 1\,000 distinguished global exhibitors to showcase the entire industry chain. Spanning from EDA tools\, semiconductor materials\, equipment manufacturing to chip design and advanced packaging applications. The exhibition features seven dedicated theme pavilions\, including Chip Design and Application\, IC Fabrication\, Wafer Equipment\, Advanced Packaging Equipment\, Semiconductor Core Part & Raw Material\, Compound Semiconductors & Power Devices\, AI Computing Power.
URL:https://navitassemi.com/event/semi-e-2025/
LOCATION:Shenzhen World Exhibition & Convention Center\, 福海街道展城路1号 邮政编码\, Shenzhen\, Baoan\, 518103\, China
CATEGORIES:Event,IR
ATTACH;FMTTYPE=image/jpeg:https://navitassemi.com/wp-content/uploads/2025/08/Semi-e-2025-Event.jpg
END:VEVENT
END:VCALENDAR