BEGIN:VCALENDAR
VERSION:2.0
PRODID:-//Navitas - ECPv6.15.20//NONSGML v1.0//EN
CALSCALE:GREGORIAN
METHOD:PUBLISH
X-WR-CALNAME:Navitas
X-ORIGINAL-URL:https://navitassemi.com
X-WR-CALDESC:Events for Navitas
REFRESH-INTERVAL;VALUE=DURATION:PT1H
X-Robots-Tag:noindex
X-PUBLISHED-TTL:PT1H
BEGIN:VTIMEZONE
TZID:America/Los_Angeles
BEGIN:DAYLIGHT
TZOFFSETFROM:-0800
TZOFFSETTO:-0700
TZNAME:PDT
DTSTART:20240310T100000
END:DAYLIGHT
BEGIN:STANDARD
TZOFFSETFROM:-0700
TZOFFSETTO:-0800
TZNAME:PST
DTSTART:20241103T090000
END:STANDARD
BEGIN:DAYLIGHT
TZOFFSETFROM:-0800
TZOFFSETTO:-0700
TZNAME:PDT
DTSTART:20250309T100000
END:DAYLIGHT
BEGIN:STANDARD
TZOFFSETFROM:-0700
TZOFFSETTO:-0800
TZNAME:PST
DTSTART:20251102T090000
END:STANDARD
BEGIN:DAYLIGHT
TZOFFSETFROM:-0800
TZOFFSETTO:-0700
TZNAME:PDT
DTSTART:20260308T100000
END:DAYLIGHT
BEGIN:STANDARD
TZOFFSETFROM:-0700
TZOFFSETTO:-0800
TZNAME:PST
DTSTART:20261101T090000
END:STANDARD
END:VTIMEZONE
BEGIN:VEVENT
DTSTART;VALUE=DATE:20250914
DTEND;VALUE=DATE:20250919
DTSTAMP:20260425T162248
CREATED:20250829T125519Z
LAST-MODIFIED:20250902T150318Z
UID:987505687-1757808000-1758239999@navitassemi.com
SUMMARY:ICSCRM 2025
DESCRIPTION:ICSCRM 2025 promises an exceptional program\, comprising top-tier tutorials\, keynote lectures\, and an array of oral and poster presentations\, all backed by the Technical Program Committee. In addition to the technical program\, an exhibition showcasing the latest technologies and products in the field of silicon carbide and related materials will run concurrently. \nEvent Details: \nBooth:\n#092 \nPresentations:\nSid Sundaresan – Session Chair\n“Devices Physics\, Design\, and Characterization”\nSeptember 16th 2:45pm – 4:15pm KST \nArash Salemi\n“Benchmark Study of State-of-The-Art Commercial 1200V SiC MOSFETs for Automotive Applications”\nSeptember 17th 4:30pm – 6:30pm KST
URL:https://navitassemi.com/event/icscrm-2025/
LOCATION:Bexco (Busan Exhibition & Convention Center)\, 55 APEC-ro\, Haeundae-gu\, Busan\, 48060\, Korea\, Republic of
CATEGORIES:Event,IR
ATTACH;FMTTYPE=image/jpeg:https://navitassemi.com/wp-content/uploads/2025/08/ICSCRM-2025-Event.jpg
END:VEVENT
END:VCALENDAR