BEGIN:VCALENDAR
VERSION:2.0
PRODID:-//Navitas - ECPv6.15.20//NONSGML v1.0//EN
CALSCALE:GREGORIAN
METHOD:PUBLISH
X-ORIGINAL-URL:https://navitassemi.com
X-WR-CALDESC:Events for Navitas
REFRESH-INTERVAL;VALUE=DURATION:PT1H
X-Robots-Tag:noindex
X-PUBLISHED-TTL:PT1H
BEGIN:VTIMEZONE
TZID:America/Los_Angeles
BEGIN:DAYLIGHT
TZOFFSETFROM:-0800
TZOFFSETTO:-0700
TZNAME:PDT
DTSTART:20240310T100000
END:DAYLIGHT
BEGIN:STANDARD
TZOFFSETFROM:-0700
TZOFFSETTO:-0800
TZNAME:PST
DTSTART:20241103T090000
END:STANDARD
BEGIN:DAYLIGHT
TZOFFSETFROM:-0800
TZOFFSETTO:-0700
TZNAME:PDT
DTSTART:20250309T100000
END:DAYLIGHT
BEGIN:STANDARD
TZOFFSETFROM:-0700
TZOFFSETTO:-0800
TZNAME:PST
DTSTART:20251102T090000
END:STANDARD
BEGIN:DAYLIGHT
TZOFFSETFROM:-0800
TZOFFSETTO:-0700
TZNAME:PDT
DTSTART:20260308T100000
END:DAYLIGHT
BEGIN:STANDARD
TZOFFSETFROM:-0700
TZOFFSETTO:-0800
TZNAME:PST
DTSTART:20261101T090000
END:STANDARD
END:VTIMEZONE
BEGIN:VEVENT
DTSTART;VALUE=DATE:20251019
DTEND;VALUE=DATE:20251023
DTSTAMP:20260424T041651
CREATED:20250917T124925Z
LAST-MODIFIED:20250917T124925Z
UID:987505736-1760832000-1761177599@navitassemi.com
SUMMARY:ECCE Conference 2025
DESCRIPTION:The ECCE 2025 Conference will feature both industry-driven and application-oriented technical sessions\, as well as expositions. ECCE will bring together practicing engineers\, researchers and other professionals for interactive and multidisciplinary discussions on the latest advances in various areas related to energy conversion.
URL:https://navitassemi.com/event/ecce-conference-2025/
LOCATION:Philadelphia\, Philadelphia\, PA\, United States
CATEGORIES:Event,IR
ATTACH;FMTTYPE=image/jpeg:https://navitassemi.com/wp-content/uploads/2025/09/ECCE-2025-Event.jpg
END:VEVENT
END:VCALENDAR